BEGIN:VCALENDAR
VERSION:2.0
PRODID:-//InvisionCommunity Events 5.0.14//EN
METHOD:PUBLISH
CALSCALE:GREGORIAN
REFRESH-INTERVAL:PT15M
X-PUBLISHED-TTL:PT15M
X-WR-CALNAME:P300
NAME:P300
BEGIN:VTIMEZONE
TZID:Europe/London
TZURL:https://tzurl.org/zoneinfo/Europe/London
X-LIC-LOCATION:Europe/London
BEGIN:DAYLIGHT
TZOFFSETFROM:+0000
TZOFFSETTO:+0100
TZNAME:BST
DTSTART:20210328T020000Z
RRULE:FREQ=YEARLY;BYMONTH=3;BYDAY=-1SU
END:DAYLIGHT
BEGIN:STANDARD
TZOFFSETFROM:+0100
TZOFFSETTO:+0000
TZNAME:GMT
DTSTART:20211031T020000Z
RRULE:FREQ=YEARLY;BYMONTH=10;BYDAY=-1SU
END:STANDARD
END:VTIMEZONE
BEGIN:VEVENT
SUMMARY:MotoGP - Jerez
DTSTAMP:20210427T150124Z
SEQUENCE:0
UID:1670-1-4c5e3786aaeb23795850bfe22281121f@forum.p300.it
ORGANIZER;CN="leopnd":info@p300.it
DESCRIPTION:\n	Gran Premio Red Bull De España\n\n	\n\n	\n\n	\n\n	https:
	//www.motogp.com\n\n
DTSTART:20210430T070000Z
DTEND:20210502T130000Z
END:VEVENT
END:VCALENDAR
